BEGIN:VCALENDAR
VERSION:2.0
PRODID:-//Malakoff Plurielle - ECPv6.3.7//NONSGML v1.0//EN
CALSCALE:GREGORIAN
METHOD:PUBLISH
X-WR-CALNAME:Malakoff Plurielle
X-ORIGINAL-URL:https://malakoff-plurielle.fr
X-WR-CALDESC:évènements pour Malakoff Plurielle
REFRESH-INTERVAL;VALUE=DURATION:PT1H
X-Robots-Tag:noindex
X-PUBLISHED-TTL:PT1H
BEGIN:VTIMEZONE
TZID:Europe/Paris
BEGIN:DAYLIGHT
TZOFFSETFROM:+0100
TZOFFSETTO:+0200
TZNAME:CEST
DTSTART:20170326T010000
END:DAYLIGHT
BEGIN:STANDARD
TZOFFSETFROM:+0200
TZOFFSETTO:+0100
TZNAME:CET
DTSTART:20171029T010000
END:STANDARD
END:VTIMEZONE
BEGIN:VEVENT
DTSTART;TZID=Europe/Paris:20170607T200000
DTEND;TZID=Europe/Paris:20170607T210000
DTSTAMP:20260421T022422
CREATED:20170602T140027Z
LAST-MODIFIED:20170602T140517Z
UID:2075-1496865600-1496869200@malakoff-plurielle.fr
SUMMARY:Réunion publique de Laurianne Rossi à Malakoff
DESCRIPTION:Malakoff Plurielle soutient Laurianne Rossi\, candidate de la République en marche aux élections législatives 2017 pour la 11ème circonscription des Hauts-de-Seine Malakoff-Montrouge-Bagneux. \nNous avons le plaisir de relayer l’invitation d’En marche! à la réunion publique que tiendra Lauriane le mercredi 7 juin\, à 20h00\, à la Maison de la Vie Associative\, 26 rue Victor-Hugo\, 92240 Malakoff. \nVenez nombreux ! \n  \nPartager :FacebookTwitterE-mailImprimerPlusTelegramWhatsAppPinterestLinkedInRedditTumblrPocketJ’aime ça :J’aime chargement…
URL:https://malakoff-plurielle.fr/event/reunion-publique-de-laurianne-rossi-a-malakoff/
LOCATION:Maison de la Vie Associative\, 28 rue Victor Hugo\, Malakoff\, 92 240
CATEGORIES:Election
END:VEVENT
BEGIN:VEVENT
DTSTART;TZID=Europe/Paris:20170614T193000
DTEND;TZID=Europe/Paris:20170614T213000
DTSTAMP:20260421T022422
CREATED:20170612T160923Z
LAST-MODIFIED:20170612T160923Z
UID:2094-1497468600-1497475800@malakoff-plurielle.fr
SUMMARY:Réunion publique avec Laurianne Rossi (LREM)
DESCRIPTION:Malakoff Plurielle vous invite à assister à la réunion publique de l’entre-deux tours organisée par Laurianne Rossi (République en Marche). \nInvités d’honneur: Corinne Lepage et André Gattolin. \n\nPartager :FacebookTwitterE-mailImprimerPlusTelegramWhatsAppPinterestLinkedInRedditTumblrPocketJ’aime ça :J’aime chargement…
URL:https://malakoff-plurielle.fr/event/reunion-publique-avec-laurianne-rossi-lrem/
LOCATION:Espace Léo Ferré\, Bagneux\, 6\, rue Charles Michel\,\, Bagneux\, 92220\, France
END:VEVENT
BEGIN:VEVENT
DTSTART;TZID=Europe/Paris:20170628T190000
DTEND;TZID=Europe/Paris:20170628T210000
DTSTAMP:20260421T022422
CREATED:20170622T104125Z
LAST-MODIFIED:20170622T104125Z
UID:2104-1498676400-1498683600@malakoff-plurielle.fr
SUMMARY:Conseil Municipal
DESCRIPTION:Ordre du jour : \n  \nFINANCES      \nRapport 1 : Adoption du compte administratif et du compte de gestion 2016 de la Commune\, du budget annexe de location des parkings et affectation des résultats \nADMINISTRATION GENERALE      \nRapport 2 : Modification du règlement intérieur du Conseil Municipal mise en œuvre du droit de saisine \nRapport 3 : Rapport annuel 2016 de la Commission Communale pour l’Accessibilité aux Personnes Handicapées \nRapport 4 : Rapprochement OPH-SAIEM : \n\nConvention en compte courant d’associés à intervenir avec la SAIEM du Fond des Groux + Décision Modificative n°1 du Budget Primitif 2017\nTransfert à la SAIEM du Fond des Groux\, de la garantie accordée par la Ville aux emprunts souscrits par l’Office auprès de DEXIA\, cédés à la Caisse Française de financement local\nTransfert à la SAIEM du Fond des Groux\, de la garantie accordée par la Ville aux emprunts souscrits par l’Office auprès de la Caisse d’Epargne\nTransfert à la SAIEM du Fond des Groux\, de la garantie accordée par la Ville aux emprunts souscrits par l’Office auprès de la Caisse des Dépôts et Consignations\nMaintien à la SAIEM du Fond des Groux\, du droit de réservation à la Ville des logements initialement réservés par l’OPH\n\nRapport 5 : Fonds d’Investissement Métropolitain : procédure cadre \n  \nBATIMENTS COMMUNAUX      \nRapport 6 : Dotation de soutien à l’investissement local 2017 – Projet de construction du garage municipal et du centre technique municipal de Malakoff –  Demande de financement sur la phase 2 (construction du Centre Technique Municipal) \nRapport 7 : Dotation de Soutien à l’Investissement Local 2017 – Travaux de mise en accessibilité\, d’extension et réhabilitation thermique de l’école maternelle Paul Bert sise rue Marie Lahy Hollebecque à Malakoff \nRapport 8 : Dotation de Soutien à l’Investissement Local 2017 – Travaux de rénovation et de mise en accessibilité du gymnase Yvon PINON à Malakoff \n  \nCULTURE      \nRapport 9 : Convention avec l’association « Prospero Miranda » \n   \nDEVELOPPEMENT DURABLE     \nRapport 10 : Convention de partenariat à intervenir avec l’association « Espaces » relative à la mise à disposition d’un berger pour la ferme urbaine de Corsico \nRapport 11 : Autorisation d’occupation temporaire du domaine public à titre gratuit dans le cadre du projet « Nature en ville »\, intitulée « Permis de végétaliser » \n  \nINTERCOMMUNALITE      \nRapport 12 : EPT VSGP – Convention de remboursement relative à l’exercice de la compétence « gestion des médiathèques » \n  \nJEUNESSE      \nRapport 13 : Convention d’objectifs 2017 avec l’association « Beat & Beer » \n   \nPERSONNEL      \nRapport 14 : Création de postes \nRapport 15 : Transformation de postes \nRapport 16 : Création de postes d’adjoints techniques \nRapport 17 : Recours au contrat d’apprentissage \nRapport 18 : Modification de l’attribution des indemnités de fonction des élus municipaux \n  \nPREVENTION      \nRapport 19 : Conseil Local de Sécurité et de Prévention de la Délinquance 2017 \n  \nSYNDICATS INTERCOMMUNAUX      \nRapport 20 : SIPPEREC – Adhésion de la ville à l’option Géothermie dans le cadre de la compétence « Développement des énergies renouvelables » \nRapport 21 : SIPPEREC – Convention relative à la mise en œuvre d’actions et d’installations de production et de distribution d’énergie géothermique sur les communes de Malakoff et Montrouge \nRapport 22 : Syndicat mixte Autolib’ et Vélib’ Métropole – Transfert de la compétence « location de vélos en libre-service » et adhésion à la compétence optionnelle « Vélib’ » (délibération modificative) \n   \nURBANISME \nRapport 23 : Bilan des cessions immobilières de l’année 2016 \nRapport 24 : Cession d’une emprise foncière issue de la parcelle cadastrée section T n°141 correspondant au square Malleret-Joinville \nRapport 25 : Approbation de la charte de la promotion immobilière et de la construction durable \n  \nVIE ASSOCIATIVE \nRapport 26 : Attribution des subventions municipales et départementales aux associations et organismes au titre du budget 2017 \n  \nSPORTS \nRapport 27 : Tarification de location des installations sportives pour l’année 2017/2018 \nRapport 28 : Avenants de prorogation des conventions pluriannuelles d’objectifs entre la Ville de MALAKOFF et l’Union Sportive Municipale de Malakoff (USMM) et l’Office des Sports de Malakoff (OSM) \nRapport 29 : Convention de mise à disposition d’installations sportives communales dans le cadre du dispositif Vacan’sports Hauts-de-Seine à intervenir avec le Conseil Départemental \n  \nINFORMATIONS : \nRapport 30 : DIA \nRapport 31 : Décisions prises par la Maire dans le cadre de l’article L.2122-22 du CGCT \n  \nCOMMUNICATIONS – QUESTIONS DIVERSES : / \nDÉCISION PRISE DANS LE CADRE DE L’ARTICLE L.2122–22 DU CODE GÉNÉRAL DES COLLECTIVITÉS TERRITORIALES : \nDM2017_22 : Régie temporaire de recettes pour les encaissements des droits de place pour les brocantes organisées en 2017 \nDM2017_23 : Régie temporaire de recettes pour le fête de la ville 2017 \nDM2017_24 : Attribution du marché n°17-15 relatif à la fourniture\, la pose et la maintenance de toilettes sèches \nDM2017_25 : Attribution du marché n°16-26 relatif à la fourniture\, l’installation et la mise en service d’un Cône Beam pour le Centre Municipal de Santé de la Ville de Malakoff \nDM2017_26 : Marché à procédure adaptée n°17-08 relatif aux travaux d’installation de nouveaux systèmes de régulation de CVC (Chauffage\, Ventilation\, Climatisation) \nDM2017_27 : Marché à procédure adaptée n°17-13 relatif à la location temporaire de locaux modulaires pour l’école maternelle Paul Bert \nDM2017_28 : Convention de mise à disposition de l’association « Dynamo » d’un local sis 1 rue Avaulée \nDM2017_29 : Convention de mise à disposition du collège Wallon du Théâtre 71 le 23 mai 2017 \nDM2017_30 : Indexation des baux d’habitation du patrimoine privé communal \nDM2017_31 : Indexation des conventions de stationnement \nDM2017_32 : Marché à procédure adaptée n°17-12 relatif aux travaux de rénovation des réfectoires des groupes scolaires Paul Langevin/Georges Cogniot \nDM2017_33 : Modification n°1 au marché n°17-04 relatif aux travaux d’aménagement et de rénovation de l’espace 14 juillet \nDM2017_34 : Marché n°17-09 relatif au mandat pour la réalisation d’études préalables à la création et à la réalisation d’une opération d’aménagement \nPartager :FacebookTwitterE-mailImprimerPlusTelegramWhatsAppPinterestLinkedInRedditTumblrPocketJ’aime ça :J’aime chargement…
URL:https://malakoff-plurielle.fr/event/conseil-municipal-17/
LOCATION:Hôtel de Ville de Malakoff\, Place du 11 Novembre\, Malakoff\, 92 240\, France
CATEGORIES:Conseil Municipal
END:VEVENT
END:VCALENDAR