BEGIN:VCALENDAR
VERSION:2.0
PRODID:-//Malakoff Plurielle - ECPv6.3.7//NONSGML v1.0//EN
CALSCALE:GREGORIAN
METHOD:PUBLISH
X-ORIGINAL-URL:https://malakoff-plurielle.fr
X-WR-CALDESC:évènements pour Malakoff Plurielle
REFRESH-INTERVAL;VALUE=DURATION:PT1H
X-Robots-Tag:noindex
X-PUBLISHED-TTL:PT1H
BEGIN:VTIMEZONE
TZID:Europe/Paris
BEGIN:DAYLIGHT
TZOFFSETFROM:+0100
TZOFFSETTO:+0200
TZNAME:CEST
DTSTART:20150329T010000
END:DAYLIGHT
BEGIN:STANDARD
TZOFFSETFROM:+0200
TZOFFSETTO:+0100
TZNAME:CET
DTSTART:20151025T010000
END:STANDARD
END:VTIMEZONE
BEGIN:VEVENT
DTSTART;VALUE=DATE:20150606
DTEND;VALUE=DATE:20150608
DTSTAMP:20260422T134240
CREATED:20150317T164646Z
LAST-MODIFIED:20150317T164646Z
UID:1255-1433548800-1433721599@malakoff-plurielle.fr
SUMMARY:Fête de la ville
DESCRIPTION:Partager :FacebookTwitterE-mailImprimerPlusTelegramWhatsAppPinterestLinkedInRedditTumblrPocketJ’aime ça :J’aime chargement…
URL:https://malakoff-plurielle.fr/event/fete-de-la-ville/
LOCATION:Fête de la ville\, Boulevard de Stalingrad\, Malakoff\, 92 240\, France
END:VEVENT
BEGIN:VEVENT
DTSTART;TZID=Europe/Paris:20150616T190000
DTEND;TZID=Europe/Paris:20150616T220000
DTSTAMP:20260422T134240
CREATED:20150531T173325Z
LAST-MODIFIED:20150604T091947Z
UID:1298-1434481200-1434492000@malakoff-plurielle.fr
SUMMARY:Conseil Municipal exceptionnel
DESCRIPTION:Partager :FacebookTwitterE-mailImprimerPlusTelegramWhatsAppPinterestLinkedInRedditTumblrPocketJ’aime ça :J’aime chargement…
URL:https://malakoff-plurielle.fr/event/conseil-municipal-exceptionnel/
LOCATION:Salle des Fêtes – École Jean Jaurès\, Rue Jules Ferry\, Malakoff\, 92 240\, France
END:VEVENT
BEGIN:VEVENT
DTSTART;TZID=Europe/Paris:20150630T190000
DTEND;TZID=Europe/Paris:20150630T220000
DTSTAMP:20260422T134240
CREATED:20150212T112831Z
LAST-MODIFIED:20150212T112831Z
UID:1220-1435690800-1435701600@malakoff-plurielle.fr
SUMMARY:Conseil Municipal
DESCRIPTION:Partager :FacebookTwitterE-mailImprimerPlusTelegramWhatsAppPinterestLinkedInRedditTumblrPocketJ’aime ça :J’aime chargement…
URL:https://malakoff-plurielle.fr/event/conseil-municipal-9/
LOCATION:Hôtel de Ville de Malakoff\, Place du 11 Novembre\, Malakoff\, 92 240\, France
END:VEVENT
END:VCALENDAR