BEGIN:VCALENDAR
VERSION:2.0
PRODID:-//Malakoff Plurielle - ECPv6.3.7//NONSGML v1.0//EN
CALSCALE:GREGORIAN
METHOD:PUBLISH
X-ORIGINAL-URL:https://malakoff-plurielle.fr
X-WR-CALDESC:évènements pour Malakoff Plurielle
REFRESH-INTERVAL;VALUE=DURATION:PT1H
X-Robots-Tag:noindex
X-PUBLISHED-TTL:PT1H
BEGIN:VTIMEZONE
TZID:Europe/Paris
BEGIN:DAYLIGHT
TZOFFSETFROM:+0100
TZOFFSETTO:+0200
TZNAME:CEST
DTSTART:20140330T010000
END:DAYLIGHT
BEGIN:STANDARD
TZOFFSETFROM:+0200
TZOFFSETTO:+0100
TZNAME:CET
DTSTART:20141026T010000
END:STANDARD
END:VTIMEZONE
BEGIN:VEVENT
DTSTART;TZID=Europe/Paris:20141117T200000
DTEND;TZID=Europe/Paris:20141117T230000
DTSTAMP:20260423T005054
CREATED:20140801T141539Z
LAST-MODIFIED:20141001T081931Z
UID:1104-1416254400-1416265200@malakoff-plurielle.fr
SUMMARY:AG Malakoff Plurielle
DESCRIPTION:Partager :FacebookTwitterE-mailImprimerPlusTelegramWhatsAppPinterestLinkedInRedditTumblrPocketJ’aime ça :J’aime chargement…
URL:https://malakoff-plurielle.fr/event/ag-malakoff-plurielle/
LOCATION:Maison de la Vie Associative\, 28 rue Victor Hugo\, Malakoff\, 92 240
END:VEVENT
BEGIN:VEVENT
DTSTART;TZID=Europe/Paris:20141119T190000
DTEND;TZID=Europe/Paris:20141119T220000
DTSTAMP:20260423T005054
CREATED:20140801T142007Z
LAST-MODIFIED:20141001T082001Z
UID:1106-1416423600-1416434400@malakoff-plurielle.fr
SUMMARY:Conseil Municipal
DESCRIPTION:Partager :FacebookTwitterE-mailImprimerPlusTelegramWhatsAppPinterestLinkedInRedditTumblrPocketJ’aime ça :J’aime chargement…
URL:https://malakoff-plurielle.fr/event/conseil-municipal-2/
LOCATION:Hôtel de Ville de Malakoff\, Place du 11 Novembre\, Malakoff\, 92 240\, France
END:VEVENT
BEGIN:VEVENT
DTSTART;TZID=Europe/Paris:20141120T190000
DTEND;TZID=Europe/Paris:20141120T220000
DTSTAMP:20260423T005054
CREATED:20141106T111732Z
LAST-MODIFIED:20141106T111732Z
UID:1171-1416510000-1416520800@malakoff-plurielle.fr
SUMMARY:Conseil Communautaire Sud de Seine
DESCRIPTION:Partager :FacebookTwitterE-mailImprimerPlusTelegramWhatsAppPinterestLinkedInRedditTumblrPocketJ’aime ça :J’aime chargement…
URL:https://malakoff-plurielle.fr/event/conseil-communautaire-sud-de-seine/
LOCATION:Maison de la Vie Associative\, 28 rue Victor Hugo\, Malakoff\, 92 240
END:VEVENT
END:VCALENDAR