BEGIN:VCALENDAR
VERSION:2.0
PRODID:-//Malakoff Plurielle - ECPv6.3.7//NONSGML v1.0//EN
CALSCALE:GREGORIAN
METHOD:PUBLISH
X-WR-CALNAME:Malakoff Plurielle
X-ORIGINAL-URL:https://malakoff-plurielle.fr
X-WR-CALDESC:évènements pour Malakoff Plurielle
REFRESH-INTERVAL;VALUE=DURATION:PT1H
X-Robots-Tag:noindex
X-PUBLISHED-TTL:PT1H
BEGIN:VTIMEZONE
TZID:Europe/Paris
BEGIN:DAYLIGHT
TZOFFSETFROM:+0100
TZOFFSETTO:+0200
TZNAME:CEST
DTSTART:20140330T010000
END:DAYLIGHT
BEGIN:STANDARD
TZOFFSETFROM:+0200
TZOFFSETTO:+0100
TZNAME:CET
DTSTART:20141026T010000
END:STANDARD
END:VTIMEZONE
BEGIN:VEVENT
DTSTART;TZID=Europe/Paris:20140911T100000
DTEND;TZID=Europe/Paris:20140911T120000
DTSTAMP:20260423T033730
CREATED:20140904T150810Z
LAST-MODIFIED:20140904T195105Z
UID:1132-1410429600-1410436800@malakoff-plurielle.fr
SUMMARY:Réunion relative aux nuisances dues au projet d'aménagement de l'avant gare Paris Montparnasse
DESCRIPTION:Suite aux courriers adressés par les collectifs de riverains\, les élus Malakoff Plurielle (http://malakoff-plurielle.fr/?p=1071)\, Madame la Député et Madame la Maire au sujet des nuisances liées au projet d’aménagement de l’avant gare Paris Montparnasse\, le Sous-Préfet d’Antony organise une réunion le jeudi 11 septembre 2014. \nVenez nombreux auprès des élus et membres du collectif Malakoff Plurielle\nsoutenir les riverains de Malakoff contre les nuisances du TGV. \nPartager :FacebookTwitterE-mailImprimerPlusTelegramWhatsAppPinterestLinkedInRedditTumblrPocketJ’aime ça :J’aime chargement…
URL:https://malakoff-plurielle.fr/event/reunion-relative-aux-nuisances-dues-au-projet-damenagement-de-lavant-gare-paris-montparnasse/
LOCATION:Sous-Préfecture d’Antony – Salle Colbert\, 99 avenue du Général de Gaulle\, Antony\, 92160\, France
END:VEVENT
BEGIN:VEVENT
DTSTART;TZID=Europe/Paris:20140930T190000
DTEND;TZID=Europe/Paris:20140930T220000
DTSTAMP:20260423T033730
CREATED:20140801T140736Z
LAST-MODIFIED:20140917T114932Z
UID:1101-1412103600-1412114400@malakoff-plurielle.fr
SUMMARY:Conseil Municipal
DESCRIPTION:  \n  \nPartager :FacebookTwitterE-mailImprimerPlusTelegramWhatsAppPinterestLinkedInRedditTumblrPocketJ’aime ça :J’aime chargement…
URL:https://malakoff-plurielle.fr/event/conseil-municipal/
LOCATION:Hôtel de Ville de Malakoff\, Place du 11 Novembre\, Malakoff\, 92 240\, France
END:VEVENT
END:VCALENDAR