BEGIN:VCALENDAR
VERSION:2.0
PRODID:-//Malakoff Plurielle - ECPv6.3.7//NONSGML v1.0//EN
CALSCALE:GREGORIAN
METHOD:PUBLISH
X-WR-CALNAME:Malakoff Plurielle
X-ORIGINAL-URL:https://malakoff-plurielle.fr
X-WR-CALDESC:évènements pour Malakoff Plurielle
REFRESH-INTERVAL;VALUE=DURATION:PT1H
X-Robots-Tag:noindex
X-PUBLISHED-TTL:PT1H
BEGIN:VTIMEZONE
TZID:Europe/Paris
BEGIN:DAYLIGHT
TZOFFSETFROM:+0100
TZOFFSETTO:+0200
TZNAME:CEST
DTSTART:20170326T010000
END:DAYLIGHT
BEGIN:STANDARD
TZOFFSETFROM:+0200
TZOFFSETTO:+0100
TZNAME:CET
DTSTART:20171029T010000
END:STANDARD
END:VTIMEZONE
BEGIN:VEVENT
DTSTART;TZID=Europe/Paris:20171213T190000
DTEND;TZID=Europe/Paris:20171213T210000
DTSTAMP:20260420T181112
CREATED:20171211T122706Z
LAST-MODIFIED:20171211T122706Z
UID:2450-1513191600-1513198800@malakoff-plurielle.fr
SUMMARY:Conseil Municipal
DESCRIPTION:Ordre du jour chargé. \nLes principaux points sont : \n\nle projet d’urbanisme Safran\,\nles partenariats culturels de la Ville\,\nla coopération décentralisée avec Ngogom.\n\nL’ordre du jour détaillé est ICI. \nVenez nombreux soutenir notre élue Emmanuelle JANNES ! \nPartager :FacebookTwitterE-mailImprimerPlusTelegramWhatsAppPinterestLinkedInRedditTumblrPocketJ’aime ça :J’aime chargement…
URL:https://malakoff-plurielle.fr/event/conseil-municipal-23/
LOCATION:Hôtel de Ville de Malakoff\, Place du 11 Novembre\, Malakoff\, 92 240\, France
CATEGORIES:Conseil Municipal
END:VEVENT
END:VCALENDAR