BEGIN:VCALENDAR
VERSION:2.0
PRODID:-//Malakoff Plurielle - ECPv6.3.7//NONSGML v1.0//EN
CALSCALE:GREGORIAN
METHOD:PUBLISH
X-ORIGINAL-URL:https://malakoff-plurielle.fr
X-WR-CALDESC:évènements pour Malakoff Plurielle
REFRESH-INTERVAL;VALUE=DURATION:PT1H
X-Robots-Tag:noindex
X-PUBLISHED-TTL:PT1H
BEGIN:VTIMEZONE
TZID:Europe/Paris
BEGIN:DAYLIGHT
TZOFFSETFROM:+0100
TZOFFSETTO:+0200
TZNAME:CEST
DTSTART:20160327T010000
END:DAYLIGHT
BEGIN:STANDARD
TZOFFSETFROM:+0200
TZOFFSETTO:+0100
TZNAME:CET
DTSTART:20161030T010000
END:STANDARD
END:VTIMEZONE
BEGIN:VEVENT
DTSTART;VALUE=DATE:20160903
DTEND;VALUE=DATE:20160905
DTSTAMP:20260421T171019
CREATED:20160901T122414Z
LAST-MODIFIED:20160901T122414Z
UID:1679-1472860800-1473033599@malakoff-plurielle.fr
SUMMARY:Week-end des associations
DESCRIPTION:Les 3  et 4 septembre 2016\, la ville de Malakoff organise un week-end des associations ciblé sur les structures qui proposent des activités pour les enfants et adolescents. Cette manifestation se déroulera à la salle des fêtes de l’école Jean-Jaurès\, 11 avenue Jules Ferry\, de 10h00 à 17h00. \nCette demande a été portée par notre collectif pendant la campagne municipale de 2014 et en conseil municipal en 2015 et 2016. Voir « des associations intégrées à la ville« \, notre tribune dans le Malakoff Infos de mars 2016.\n \nAvec beaucoup de patience et de persévérance\, nous avons obtenu que la municipalité réalise et publie un bilan complet du soutien que la ville octroie aux associations\, y compris en apport en nature comme la mise à disposition de salle ou de matériel. \nNous avons aussi réclamé plusieurs mesures en faveur des associations\, dont un forum des associations à l’automne. Dominique Cardot nous avait déclaré travailler à la mise en place d’une formule « légère » de forum apte à satisfaire les familles qui planifient les activités périscolaires de leurs enfants avant la rentrée des classes. Cette action a été confirmée cet été par la ville. \nC’est donc désormais chose faite ! Nous nous félicitons de cette avancée et invitons les familles à participer\, nombreuses\, à cette première ce week-end ! \nPour en savoir plus :   site de la ville de Malakoff \nEmmanuelle JANNES \nPartager :FacebookTwitterE-mailImprimerPlusTelegramWhatsAppPinterestLinkedInRedditTumblrPocketJ’aime ça :J’aime chargement…
URL:https://malakoff-plurielle.fr/event/week-end-des-associations/
LOCATION:Salle des Fêtes – École Jean Jaurès\, Rue Jules Ferry\, Malakoff\, 92 240\, France
END:VEVENT
END:VCALENDAR