BEGIN:VCALENDAR
VERSION:2.0
PRODID:-//Malakoff Plurielle - ECPv6.3.7//NONSGML v1.0//EN
CALSCALE:GREGORIAN
METHOD:PUBLISH
X-WR-CALNAME:Malakoff Plurielle
X-ORIGINAL-URL:https://malakoff-plurielle.fr
X-WR-CALDESC:évènements pour Malakoff Plurielle
REFRESH-INTERVAL;VALUE=DURATION:PT1H
X-Robots-Tag:noindex
X-PUBLISHED-TTL:PT1H
BEGIN:VTIMEZONE
TZID:Europe/Paris
BEGIN:DAYLIGHT
TZOFFSETFROM:+0100
TZOFFSETTO:+0200
TZNAME:CEST
DTSTART:20140330T010000
END:DAYLIGHT
BEGIN:STANDARD
TZOFFSETFROM:+0200
TZOFFSETTO:+0100
TZNAME:CET
DTSTART:20141026T010000
END:STANDARD
END:VTIMEZONE
BEGIN:VEVENT
DTSTART;VALUE=DATE:20140614
DTEND;VALUE=DATE:20140616
DTSTAMP:20260423T100011
CREATED:20140802T122616Z
LAST-MODIFIED:20140802T122616Z
UID:1115-1402704000-1402876799@malakoff-plurielle.fr
SUMMARY:Fête de la ville et des associations
DESCRIPTION:Samedi 14 et Dimanche 15 juin\, retrouvez nous à la Fête de la ville et des associations ! \nNouvellement créée\, notre association a pour but de rassembler les habitants de Malakoff aux valeurs de gauche\, de l’écologie et du centre qui souhaitent une ville durable\, dynamique\, juste\, solidaire\, et gérée dans la transparence. Dans le respect de ces objectifs\, l’association s’engage à porter des projets élaborés avec les habitants et à soutenir leurs initiatives auprès des instances compétentes. \nSi vous souhaitez mieux nous connaître et peut-être vous impliquer à nos côtés\, rendez-vous sur notre stand Boulevard de Stalingrad\, samedi et dimanche de 14h à 18h. \nPartager :FacebookTwitterE-mailImprimerPlusTelegramWhatsAppPinterestLinkedInRedditTumblrPocketJ’aime ça :J’aime chargement…
URL:https://malakoff-plurielle.fr/event/fete-de-la-ville-et-des-associations/
LOCATION:Fête de la ville\, Boulevard de Stalingrad\, Malakoff\, 92 240\, France
END:VEVENT
END:VCALENDAR